BEGIN:VCALENDAR
VERSION:2.0
PRODID:-//Cuc University - ECPv6.15.13//NONSGML v1.0//EN
CALSCALE:GREGORIAN
METHOD:PUBLISH
X-ORIGINAL-URL:https://cucusa.org
X-WR-CALDESC:Eventos para Cuc University
REFRESH-INTERVAL;VALUE=DURATION:PT1H
X-Robots-Tag:noindex
X-PUBLISHED-TTL:PT1H
BEGIN:VTIMEZONE
TZID:UTC
BEGIN:STANDARD
TZOFFSETFROM:+0000
TZOFFSETTO:+0000
TZNAME:UTC
DTSTART:20240101T000000
END:STANDARD
END:VTIMEZONE
BEGIN:VEVENT
DTSTART;TZID=UTC:20250730T190000
DTEND;TZID=UTC:20250730T190000
DTSTAMP:20260418T201538
CREATED:20250709T134548Z
LAST-MODIFIED:20260331T141510Z
UID:9998-1753902000-1753902000@cucusa.org
SUMMARY:Marketing Mastermind: Domina\, Crece y Monetiza
DESCRIPTION:Conecta\, aprende e innova: Da el paso y conviértete en un conocedor de cómo funcionan las redes sociales en cuanto a monetización\nÚnete a la Mastermind que aportará valor a tu proceso de visibilizar tu marca personal o empresarial en redes sociales\nUn evento online con Kathy Lora\, CEO de Tecneo\, empresaria con más de 10 años construyendo y escalando marcas digitales que sí venden. \nBeneficios de participar:  \n\nAprende de una experta en marketing y crecimiento personal.  \nDescubre estrategias innovadoras y tácticas efectivas.  \nRecibe bonos exclusivos: guía de estrategia y plantilla de contenidos. \n\nTemas principales:  \n\n Introducción al mundo del marketing.  \nMonetización en IG\, TikTok y Meta.  \nIdeas creativas para contenido. \n\nDetalles del evento:  \n\nFecha: 30 de julio  \nHora: 7:00 PM (hora Miami)  \nModalidad: Online.  \nDuración: 2 horas.  \nCosto: ¡100% gratis! 
URL:https://cucusa.org/event/marketing-mastermind-domina-crece-y-monetiza/
ATTACH;FMTTYPE=image/png:https://cucusa.org/wp-content/uploads/2025/07/post-adaptado-1.png
END:VEVENT
END:VCALENDAR