BEGIN:VCALENDAR
VERSION:2.0
PRODID:-//Cuc University - ECPv6.15.13//NONSGML v1.0//EN
CALSCALE:GREGORIAN
METHOD:PUBLISH
X-WR-CALNAME:Cuc University
X-ORIGINAL-URL:https://cucusa.org
X-WR-CALDESC:Eventos para Cuc University
REFRESH-INTERVAL;VALUE=DURATION:PT1H
X-Robots-Tag:noindex
X-PUBLISHED-TTL:PT1H
BEGIN:VTIMEZONE
TZID:UTC
BEGIN:STANDARD
TZOFFSETFROM:+0000
TZOFFSETTO:+0000
TZNAME:UTC
DTSTART:20230101T000000
END:STANDARD
END:VTIMEZONE
BEGIN:VEVENT
DTSTART;TZID=UTC:20240928T100000
DTEND;TZID=UTC:20240928T130000
DTSTAMP:20260419T125449
CREATED:20240920T165038Z
LAST-MODIFIED:20240920T165038Z
UID:8485-1727517600-1727528400@cucusa.org
SUMMARY:Taller de Ventas por Whatsapp e Instagram con Inteligencia Artificial.
DESCRIPTION:Ideal para ti si:\nSi quieres incrementar tus ventas a través de WhatsApp e Instagram\, es escencial dominar técnicas como el WhatsApp marketing y aprender a vender de manera efectiva en esta plataforma. Integrar inteligencia artificial en tus estrategias de venta puede ser un gran diferencial\, permitiéndote automatizar respuestas y personalizar interacciones a gran escala. \nEn este taller\, aprenderás a implementar un sistema de chat automatizado que cambiará la manera en como te comunicas con tus clientes. \nUn asistente de inteligencia artificial se hará cargo 24/7\, desde el primer mensaje\, calificando a tus prospectos y dirigiéndolos a un CRM para que puedas gestionar tus ventas de manera organizada y profesional. \nVuelvete un experto en las ventas por WhatsApp e Instagram y en la implementación de inteligencia artificial para manejar listas de difusión y grupos de ventas te llevará al éxito en esta plataforma\, brindándote la oportunidad de expandir tu negocio de forma inteligente a través de la compra y venta por WhatsApp. \nTodo esto de la mano de expertos:\n– David De Nubila (CMO Neero.ia)\n– ⁠Javier Polo (CEO Neero.ia) \nInscribirse es totalmente gratis \nDía: Sábado\, 28 de Septiembre\nHora: 10am a 1pm\nLugar: Universidad de la Costa \n  \nINSCRIBETE AQUI \n  \n¡No dejes pasar la oportunidad de automatizar tu negocio con este taller!\n(Cupos limitados)
URL:https://cucusa.org/event/taller-de-ventas-por-whatsapp-e-instagram-con-inteligencia-artificial/
ATTACH;FMTTYPE=image/jpeg:https://cucusa.org/wp-content/uploads/2024/09/robot-handshake-human-background-futuristic-digital-age-1-1.jpg
END:VEVENT
END:VCALENDAR