BEGIN:VCALENDAR
VERSION:2.0
PRODID:-//Cuc University - ECPv6.15.13//NONSGML v1.0//EN
CALSCALE:GREGORIAN
METHOD:PUBLISH
X-ORIGINAL-URL:https://cucusa.org
X-WR-CALDESC:Eventos para Cuc University
REFRESH-INTERVAL;VALUE=DURATION:PT1H
X-Robots-Tag:noindex
X-PUBLISHED-TTL:PT1H
BEGIN:VTIMEZONE
TZID:UTC
BEGIN:STANDARD
TZOFFSETFROM:+0000
TZOFFSETTO:+0000
TZNAME:UTC
DTSTART:20230101T000000
END:STANDARD
END:VTIMEZONE
BEGIN:VEVENT
DTSTART;TZID=UTC:20241030T183000
DTEND;TZID=UTC:20241030T183000
DTSTAMP:20260419T112841
CREATED:20241017T214229Z
LAST-MODIFIED:20241017T214229Z
UID:8767-1730313000-1730313000@cucusa.org
SUMMARY:¡Únete al Lanzamiento Exclusivo del CUC Social Club!
DESCRIPTION:Fecha: 30 de octubre | Hora: 6:30 PM (Presencial y Online)\nLugar: Universidad de la Costa Bloque 11 piso 8 \nConéctate con una comunidad global. Este evento es para ti\, estudiante de CUC University\, un espacio VIP exclusivo para crecer y crear conexiones que impulsen tu futuro. \nSobre el evento\nCUC University te invita al lanzamiento exclusivo del CUC Social Club\, una oportunidad única para formar parte de una comunidad que combina lo académico\, social y profesional en un espacio diseñado para tu crecimiento. \nEste será un espacio para interactuar\, aprender y socializar con tus compañeros de CUC University en un ambiente exclusivo. Prepárate para una noche inolvidable llena de sorpresas\, dinámicas\, networking y entretenimiento. Además\, al participar\, podrás acumular puntos que te beneficiarán en actividades y ofertas con nuestros aliados. \n  \nAgenda del Evento\n\nBienvenida y registro\n\nLos asistentes serán recibidos con un paquete de bienvenida\, que incluirá información sobre el club y algunas sorpresas exclusivas. \n\nPresentación del CUC Social Club\n\nDescubre la misión\, visión y objetivos del club. Los organizadores explicarán cómo este será el espacio perfecto para combinar el aprendizaje y la diversión\, potenciando tu desarrollo personal y profesional. \n\nDinámicas\n\nActividades diseñadas para conectar con tus compañeros\, construir relaciones y fomentar el trabajo en equipo. \n\nCharla inspiracional\n\nNuestro invitado especial te hablará sobre cómo la participación en clubs estudiantiles y el networking pueden impactar positivamente en tu carrera académica y profesional. \n\nLanzamiento oficial\n\nCon un momento simbólico\, dará por inaugurado oficialmente el CUC Social Club. ¡Prepárate para ser parte de esta nueva aventura! \n\nCelebración y Networking\n\nDisfruta de música\, entretenimiento y un espacio para relajarte y socializar con tus compañeros. \n  \n¿No puedes asistir presencialmente?\n¡No te preocupes! Conéctate desde cualquier parte del mundo y forma parte de esta experiencia única en su modalidad online. Además\, todos los participantes\, tanto presenciales como virtuales\, podrán acumular puntos que podrán canjear en futuras actividades del club. \n¡Tu presencia es fundamental para iniciar juntos esta nueva aventura en el CUC Social Club!
URL:https://cucusa.org/event/unete-al-lanzamiento-exclusivo-del-cuc-social-club/
ATTACH;FMTTYPE=image/jpeg:https://cucusa.org/wp-content/uploads/2024/10/close-up-people-work-meeting-1-1.jpg
END:VEVENT
END:VCALENDAR