BEGIN:VCALENDAR
VERSION:2.0
PRODID:-//Cuc University - ECPv6.15.13//NONSGML v1.0//EN
CALSCALE:GREGORIAN
METHOD:PUBLISH
X-WR-CALNAME:Cuc University
X-ORIGINAL-URL:https://cucusa.org
X-WR-CALDESC:Eventos para Cuc University
REFRESH-INTERVAL;VALUE=DURATION:PT1H
X-Robots-Tag:noindex
X-PUBLISHED-TTL:PT1H
BEGIN:VTIMEZONE
TZID:UTC
BEGIN:STANDARD
TZOFFSETFROM:+0000
TZOFFSETTO:+0000
TZNAME:UTC
DTSTART:20230101T000000
END:STANDARD
END:VTIMEZONE
BEGIN:VEVENT
DTSTART;VALUE=DATE:20240228
DTEND;VALUE=DATE:20240229
DTSTAMP:20260420T203406
CREATED:20240710T182810Z
LAST-MODIFIED:20240710T183007Z
UID:7230-1709078400-1709164799@cucusa.org
SUMMARY:La Revolución de la IA | CUC University
DESCRIPTION:Técnicas\, casos de éxito y herramientas aplicadas al crecimiento empresarial \n  \nVER EVENTO
URL:https://cucusa.org/event/la-revolucion-de-la-ia-cuc-university/
LOCATION:CUC University
ATTACH;FMTTYPE=image/webp:https://cucusa.org/wp-content/uploads/2024/05/bg-virtual-fair-cuc.webp
END:VEVENT
END:VCALENDAR