BEGIN:VCALENDAR
VERSION:2.0
PRODID:-//Cuc University - ECPv6.15.13//NONSGML v1.0//EN
CALSCALE:GREGORIAN
METHOD:PUBLISH
X-ORIGINAL-URL:https://cucusa.org
X-WR-CALDESC:Eventos para Cuc University
REFRESH-INTERVAL;VALUE=DURATION:PT1H
X-Robots-Tag:noindex
X-PUBLISHED-TTL:PT1H
BEGIN:VTIMEZONE
TZID:UTC
BEGIN:STANDARD
TZOFFSETFROM:+0000
TZOFFSETTO:+0000
TZNAME:UTC
DTSTART:20220101T000000
END:STANDARD
END:VTIMEZONE
BEGIN:VEVENT
DTSTART;VALUE=DATE:20231123
DTEND;VALUE=DATE:20231124
DTSTAMP:20260424T203558
CREATED:20240726T145054Z
LAST-MODIFIED:20240726T145410Z
UID:7781-1700697600-1700783999@cucusa.org
SUMMARY:Lanzamiento CUC University | El Camino al Éxito Global
DESCRIPTION:VER EVENTO
URL:https://cucusa.org/event/lanzamiento-cuc-university-el-camino-al-exito-global/
ATTACH;FMTTYPE=image/jpeg:https://cucusa.org/wp-content/uploads/2024/07/virtual-classroom-study-space-1-1.jpg
END:VEVENT
END:VCALENDAR